BEGIN:VCALENDAR
VERSION:2.0
PRODID:-//Eastwick and Gilston Parish Council//Meeting Calendar//EN
CALSCALE:GREGORIAN
METHOD:PUBLISH
BEGIN:VEVENT
UID:70458-20250113@eastwickandgilstonparish.gov.uk
DTSTAMP:20260420T135638Z
DTSTART;VALUE=DATE:20250113
DTEND;VALUE=DATE:20250114
SUMMARY:Full Council Meeting &#8211\\; 13 January 2025
DESCRIPTION:Full Council Meeting\nView details: https://eastwickandgilstonparish.gov.uk/meetings/full-council-meeting-13-january-2025/
URL:https://eastwickandgilstonparish.gov.uk/meetings/full-council-meeting-13-january-2025/
END:VEVENT
END:VCALENDAR
