BEGIN:VCALENDAR
VERSION:2.0
PRODID:-//Eastwick and Gilston Parish Council//Meeting Calendar//EN
CALSCALE:GREGORIAN
METHOD:PUBLISH
BEGIN:VEVENT
UID:70461-20250310@eastwickandgilstonparish.gov.uk
DTSTAMP:20260420T135805Z
DTSTART;VALUE=DATE:20250310
DTEND;VALUE=DATE:20250311
SUMMARY:Full Council Meeting &#8211\\; 10 March 2025
DESCRIPTION:Full Council Meeting\nView details: https://eastwickandgilstonparish.gov.uk/meetings/full-council-meeting-10-march-2025/
URL:https://eastwickandgilstonparish.gov.uk/meetings/full-council-meeting-10-march-2025/
END:VEVENT
END:VCALENDAR
