BEGIN:VCALENDAR
VERSION:2.0
PRODID:-//Eastwick and Gilston Parish Council//Meeting Calendar//EN
CALSCALE:GREGORIAN
METHOD:PUBLISH
BEGIN:VEVENT
UID:70474-20240311@eastwickandgilstonparish.gov.uk
DTSTAMP:20260422T110910Z
DTSTART;VALUE=DATE:20240311
DTEND;VALUE=DATE:20240312
SUMMARY:Annual Parish Meeting &#8211\\; 11 March 2024
DESCRIPTION:Annual Parish Meeting\nView details: https://eastwickandgilstonparish.gov.uk/meetings/annual-parish-meeting-11-march-2024/
URL:https://eastwickandgilstonparish.gov.uk/meetings/annual-parish-meeting-11-march-2024/
END:VEVENT
END:VCALENDAR
