BEGIN:VCALENDAR
VERSION:2.0
PRODID:-//Eastwick and Gilston Parish Council//Meeting Calendar//EN
CALSCALE:GREGORIAN
METHOD:PUBLISH
BEGIN:VEVENT
UID:70498-20220101@eastwickandgilstonparish.gov.uk
DTSTAMP:20260420T133230Z
DTSTART;VALUE=DATE:20220101
DTEND;VALUE=DATE:20220102
SUMMARY:Full Council Meetings &#8211\\; 2022
DESCRIPTION:Full Council Meeting\nView details: https://eastwickandgilstonparish.gov.uk/meetings/full-council-meetings-2022/
URL:https://eastwickandgilstonparish.gov.uk/meetings/full-council-meetings-2022/
END:VEVENT
END:VCALENDAR
