BEGIN:VCALENDAR
VERSION:2.0
PRODID:-//Eastwick and Gilston Parish Council//Meeting Calendar//EN
CALSCALE:GREGORIAN
METHOD:PUBLISH
BEGIN:VEVENT
UID:70515-20210101@eastwickandgilstonparish.gov.uk
DTSTAMP:20260420T115115Z
DTSTART;VALUE=DATE:20210101
DTEND;VALUE=DATE:20210102
SUMMARY:Full Council Meetings &#8211\\; 2021
DESCRIPTION:Full Council Meeting\nView details: https://eastwickandgilstonparish.gov.uk/meetings/full-council-meetings-2021/
URL:https://eastwickandgilstonparish.gov.uk/meetings/full-council-meetings-2021/
END:VEVENT
END:VCALENDAR
