BEGIN:VCALENDAR
VERSION:2.0
PRODID:-//Eastwick and Gilston Parish Council//Meeting Calendar//EN
CALSCALE:GREGORIAN
METHOD:PUBLISH
BEGIN:VEVENT
UID:70527-20200101@eastwickandgilstonparish.gov.uk
DTSTAMP:20260420T102555Z
DTSTART;VALUE=DATE:20200101
DTEND;VALUE=DATE:20200102
SUMMARY:Full Council Meetings &#8211\\; 2020
DESCRIPTION:Full Council Meeting\nView details: https://eastwickandgilstonparish.gov.uk/meetings/full-council-meetings-2020/
URL:https://eastwickandgilstonparish.gov.uk/meetings/full-council-meetings-2020/
END:VEVENT
END:VCALENDAR
