BEGIN:VCALENDAR
VERSION:2.0
PRODID:-//Eastwick and Gilston Parish Council//Meeting Calendar//EN
CALSCALE:GREGORIAN
METHOD:PUBLISH
BEGIN:VEVENT
UID:70812-20250512@eastwickandgilstonparish.gov.uk
DTSTAMP:20260420T121144Z
DTSTART;VALUE=DATE:20250512
DTEND;VALUE=DATE:20250513
SUMMARY:Full Council Meeting – 12 May 2025
DESCRIPTION:Full Council Meeting\nView details: https://eastwickandgilstonparish.gov.uk/meetings/full-council-meeting-12-may-2025/
URL:https://eastwickandgilstonparish.gov.uk/meetings/full-council-meeting-12-may-2025/
END:VEVENT
END:VCALENDAR
