BEGIN:VCALENDAR
VERSION:2.0
PRODID:-//Eastwick and Gilston Parish Council//Meeting Calendar//EN
CALSCALE:GREGORIAN
METHOD:PUBLISH
BEGIN:VEVENT
UID:70813-20250714@eastwickandgilstonparish.gov.uk
DTSTAMP:20260420T120902Z
DTSTART;VALUE=DATE:20250714
DTEND;VALUE=DATE:20250715
SUMMARY:Full Council Meeting – 14 July 2025
DESCRIPTION:Full Council Meeting\nView details: https://eastwickandgilstonparish.gov.uk/meetings/full-council-meeting-14-july-2025/
URL:https://eastwickandgilstonparish.gov.uk/meetings/full-council-meeting-14-july-2025/
END:VEVENT
END:VCALENDAR
