BEGIN:VCALENDAR
VERSION:2.0
PRODID:-//Eastwick and Gilston Parish Council//Meeting Calendar//EN
CALSCALE:GREGORIAN
METHOD:PUBLISH
BEGIN:VEVENT
UID:70814-20250915@eastwickandgilstonparish.gov.uk
DTSTAMP:20260420T113713Z
DTSTART;VALUE=DATE:20250915
DTEND;VALUE=DATE:20250916
SUMMARY:Full Council Meeting – 15 September 2025
DESCRIPTION:Full Council Meeting\nView details: https://eastwickandgilstonparish.gov.uk/meetings/full-council-meeting-15-september-2025/
URL:https://eastwickandgilstonparish.gov.uk/meetings/full-council-meeting-15-september-2025/
END:VEVENT
END:VCALENDAR
