BEGIN:VCALENDAR
VERSION:2.0
PRODID:-//Eastwick and Gilston Parish Council//Meeting Calendar//EN
CALSCALE:GREGORIAN
METHOD:PUBLISH
BEGIN:VEVENT
UID:70841-20200302@eastwickandgilstonparish.gov.uk
DTSTAMP:20260420T121517Z
DTSTART;VALUE=DATE:20200302
DTEND;VALUE=DATE:20200303
SUMMARY:Village Hall AGM &#8211\\; March 2\\, 2020
DESCRIPTION:Village Hall Meeting\nView details: https://eastwickandgilstonparish.gov.uk/meetings/village-hall-agm-march-2-2020/
URL:https://eastwickandgilstonparish.gov.uk/meetings/village-hall-agm-march-2-2020/
END:VEVENT
END:VCALENDAR
