BEGIN:VCALENDAR
VERSION:2.0
PRODID:-//Eastwick and Gilston Parish Council//Meeting Calendar//EN
CALSCALE:GREGORIAN
METHOD:PUBLISH
BEGIN:VEVENT
UID:70842-20210805@eastwickandgilstonparish.gov.uk
DTSTAMP:20260420T133646Z
DTSTART;VALUE=DATE:20210805
DTEND;VALUE=DATE:20210806
SUMMARY:Village Hall AGM &#8211\\; August 5\\, 2021
DESCRIPTION:Village Hall Meeting\nView details: https://eastwickandgilstonparish.gov.uk/meetings/village-hall-agm-august-5-2021/
URL:https://eastwickandgilstonparish.gov.uk/meetings/village-hall-agm-august-5-2021/
END:VEVENT
END:VCALENDAR
