BEGIN:VCALENDAR
VERSION:2.0
PRODID:-//Eastwick and Gilston Parish Council//Meeting Calendar//EN
CALSCALE:GREGORIAN
METHOD:PUBLISH
BEGIN:VEVENT
UID:70847-20200101@eastwickandgilstonparish.gov.uk
DTSTAMP:20260420T102418Z
DTSTART;VALUE=DATE:20200101
DTEND;VALUE=DATE:20200102
SUMMARY:Village Hall Meetings – 2020
DESCRIPTION:Village Hall Meeting\nView details: https://eastwickandgilstonparish.gov.uk/meetings/village-hall-meetings-2020/
URL:https://eastwickandgilstonparish.gov.uk/meetings/village-hall-meetings-2020/
END:VEVENT
END:VCALENDAR
