BEGIN:VCALENDAR
VERSION:2.0
PRODID:-//Eastwick and Gilston Parish Council//Meeting Calendar//EN
CALSCALE:GREGORIAN
METHOD:PUBLISH
BEGIN:VEVENT
UID:70848-20210101@eastwickandgilstonparish.gov.uk
DTSTAMP:20260420T120736Z
DTSTART;VALUE=DATE:20210101
DTEND;VALUE=DATE:20210102
SUMMARY:Village Hall Meetings – 2021
DESCRIPTION:Village Hall Meeting\nView details: https://eastwickandgilstonparish.gov.uk/meetings/village-hall-meetings-2021/
URL:https://eastwickandgilstonparish.gov.uk/meetings/village-hall-meetings-2021/
END:VEVENT
END:VCALENDAR
