BEGIN:VCALENDAR
VERSION:2.0
PRODID:-//Eastwick and Gilston Parish Council//Meeting Calendar//EN
CALSCALE:GREGORIAN
METHOD:PUBLISH
BEGIN:VEVENT
UID:70850-20230101@eastwickandgilstonparish.gov.uk
DTSTAMP:20260420T141439Z
DTSTART;VALUE=DATE:20230101
DTEND;VALUE=DATE:20230102
SUMMARY:Village Hall Meetings – 2023
DESCRIPTION:Village Hall Meeting\nView details: https://eastwickandgilstonparish.gov.uk/meetings/village-hall-meetings-2023/
URL:https://eastwickandgilstonparish.gov.uk/meetings/village-hall-meetings-2023/
END:VEVENT
END:VCALENDAR
