BEGIN:VCALENDAR
VERSION:2.0
PRODID:-//Eastwick and Gilston Parish Council//Meeting Calendar//EN
CALSCALE:GREGORIAN
METHOD:PUBLISH
BEGIN:VEVENT
UID:70852-20240715@eastwickandgilstonparish.gov.uk
DTSTAMP:20260420T123201Z
DTSTART;VALUE=DATE:20240715
DTEND;VALUE=DATE:20240716
SUMMARY:Village Hall Meeting – July 15\\, 2024
DESCRIPTION:Village Hall Meeting\nView details: https://eastwickandgilstonparish.gov.uk/meetings/village-hall-meeting-july-15-2024/
URL:https://eastwickandgilstonparish.gov.uk/meetings/village-hall-meeting-july-15-2024/
END:VEVENT
END:VCALENDAR
