BEGIN:VCALENDAR
VERSION:2.0
PRODID:-//Eastwick and Gilston Parish Council//Meeting Calendar//EN
CALSCALE:GREGORIAN
METHOD:PUBLISH
BEGIN:VEVENT
UID:70853-20241021@eastwickandgilstonparish.gov.uk
DTSTAMP:20260420T124349Z
DTSTART;VALUE=DATE:20241021
DTEND;VALUE=DATE:20241022
SUMMARY:Village Hall Meeting – October 21\\, 2024
DESCRIPTION:Village Hall Meeting\nView details: https://eastwickandgilstonparish.gov.uk/meetings/village-hall-meeting-october-21-2024/
URL:https://eastwickandgilstonparish.gov.uk/meetings/village-hall-meeting-october-21-2024/
END:VEVENT
END:VCALENDAR
