BEGIN:VCALENDAR
VERSION:2.0
PRODID:-//Eastwick and Gilston Parish Council//Meeting Calendar//EN
CALSCALE:GREGORIAN
METHOD:PUBLISH
BEGIN:VEVENT
UID:70919-20251110@eastwickandgilstonparish.gov.uk
DTSTAMP:20260420T105628Z
DTSTART;VALUE=DATE:20251110
DTEND;VALUE=DATE:20251111
SUMMARY:Full Council Meeting – November 10 2025
DESCRIPTION:Full Council Meeting\nView details: https://eastwickandgilstonparish.gov.uk/meetings/full-council-meeting-november-10-2025/
URL:https://eastwickandgilstonparish.gov.uk/meetings/full-council-meeting-november-10-2025/
END:VEVENT
END:VCALENDAR
