BEGIN:VCALENDAR
VERSION:2.0
PRODID:-//Eastwick and Gilston Parish Council//Meeting Calendar//EN
CALSCALE:GREGORIAN
METHOD:PUBLISH
BEGIN:VEVENT
UID:70923-20260112@eastwickandgilstonparish.gov.uk
DTSTAMP:20260420T085433Z
DTSTART;VALUE=DATE:20260112
DTEND;VALUE=DATE:20260113
SUMMARY:Full Council Meeting – January 12\\, 2026
DESCRIPTION:Full Council Meeting\nView details: https://eastwickandgilstonparish.gov.uk/meetings/full-council-meeting-january-12-2026/
URL:https://eastwickandgilstonparish.gov.uk/meetings/full-council-meeting-january-12-2026/
END:VEVENT
END:VCALENDAR
