BEGIN:VCALENDAR
VERSION:2.0
PRODID:-//Eastwick and Gilston Parish Council//Meeting Calendar//EN
CALSCALE:GREGORIAN
METHOD:PUBLISH
BEGIN:VEVENT
UID:70925-20260309@eastwickandgilstonparish.gov.uk
DTSTAMP:20260420T125945Z
DTSTART;VALUE=DATE:20260309
DTEND;VALUE=DATE:20260310
SUMMARY:Annual Parish Meeting – March 9\\, 2026
DESCRIPTION:Annual Parish Meeting\nView details: https://eastwickandgilstonparish.gov.uk/meetings/annual-parish-meeting-march-9-2026/
URL:https://eastwickandgilstonparish.gov.uk/meetings/annual-parish-meeting-march-9-2026/
END:VEVENT
END:VCALENDAR
