BEGIN:VCALENDAR
VERSION:2.0
PRODID:-//Eastwick and Gilston Parish Council//Meeting Calendar//EN
CALSCALE:GREGORIAN
METHOD:PUBLISH
BEGIN:VEVENT
UID:70926-20260309@eastwickandgilstonparish.gov.uk
DTSTAMP:20260420T085433Z
DTSTART;VALUE=DATE:20260309
DTEND;VALUE=DATE:20260310
SUMMARY:Parish Council Meeting &#8211\\; March 9\\, 2026
DESCRIPTION:Full Council Meeting\nView details: https://eastwickandgilstonparish.gov.uk/meetings/parish-council-meeting-march-9-2026/
URL:https://eastwickandgilstonparish.gov.uk/meetings/parish-council-meeting-march-9-2026/
END:VEVENT
END:VCALENDAR
