BEGIN:VCALENDAR
VERSION:2.0
PRODID:-//Eastwick and Gilston Parish Council//Meeting Calendar//EN
CALSCALE:GREGORIAN
METHOD:PUBLISH
BEGIN:VEVENT
UID:70928-20260511@eastwickandgilstonparish.gov.uk
DTSTAMP:20260420T105628Z
DTSTART;VALUE=DATE:20260511
DTEND;VALUE=DATE:20260512
SUMMARY:Annual Meeting of the Council and Parish Council Business Meeting
DESCRIPTION:Full Council Meeting\nView details: https://eastwickandgilstonparish.gov.uk/meetings/annual-meeting-council-parish-council-business-meeting/
URL:https://eastwickandgilstonparish.gov.uk/meetings/annual-meeting-council-parish-council-business-meeting/
END:VEVENT
END:VCALENDAR
