BEGIN:VCALENDAR
VERSION:2.0
PRODID:-//Eastwick and Gilston Parish Council//Meeting Calendar//EN
CALSCALE:GREGORIAN
METHOD:PUBLISH
BEGIN:VEVENT
UID:70973-20250501@eastwickandgilstonparish.gov.uk
DTSTAMP:20260420T105751Z
DTSTART;VALUE=DATE:20250501
DTEND;VALUE=DATE:20250502
SUMMARY:Eastwick and Gilston Parish Council Annual Report 2024-25
DESCRIPTION:Parish Council Annual Report Meeting\nView details: https://eastwickandgilstonparish.gov.uk/meetings/eastwick-and-gilston-parish-council-annual-report-2024-25/
URL:https://eastwickandgilstonparish.gov.uk/meetings/eastwick-and-gilston-parish-council-annual-report-2024-25/
END:VEVENT
END:VCALENDAR
