BEGIN:VCALENDAR
VERSION:2.0
PRODID:-//Eastwick and Gilston Parish Council//Meeting Calendar//EN
CALSCALE:GREGORIAN
METHOD:PUBLISH
BEGIN:VEVENT
UID:71006-20250217@eastwickandgilstonparish.gov.uk
DTSTAMP:20260420T105824Z
DTSTART;VALUE=DATE:20250217
DTEND;VALUE=DATE:20250218
SUMMARY:Village Hall Meeting – February 17\\, 2025
DESCRIPTION:Village Hall Meeting\nView details: https://eastwickandgilstonparish.gov.uk/meetings/village-hall-meeting-february-17-2025/
URL:https://eastwickandgilstonparish.gov.uk/meetings/village-hall-meeting-february-17-2025/
END:VEVENT
END:VCALENDAR
