BEGIN:VCALENDAR
VERSION:2.0
PRODID:-//Eastwick and Gilston Parish Council//Meeting Calendar//EN
CALSCALE:GREGORIAN
METHOD:PUBLISH
BEGIN:VEVENT
UID:71009-20250630@eastwickandgilstonparish.gov.uk
DTSTAMP:20260420T104646Z
DTSTART;VALUE=DATE:20250630
DTEND;VALUE=DATE:20250701
SUMMARY:Village Hall Meeting – June 30\\, 2025
DESCRIPTION:Village Hall Meeting\nView details: https://eastwickandgilstonparish.gov.uk/meetings/village-hall-meeting-june-30-2025/
URL:https://eastwickandgilstonparish.gov.uk/meetings/village-hall-meeting-june-30-2025/
END:VEVENT
END:VCALENDAR
