BEGIN:VCALENDAR
VERSION:2.0
PRODID:-//Eastwick and Gilston Parish Council//Meeting Calendar//EN
CALSCALE:GREGORIAN
METHOD:PUBLISH
BEGIN:VEVENT
UID:71049-20251127@eastwickandgilstonparish.gov.uk
DTSTAMP:20260420T105752Z
DTSTART;VALUE=DATE:20251127
DTEND;VALUE=DATE:20251128
SUMMARY:Gilston Area Liaison Stakeholder Meeting – November 27\\, 2025
DESCRIPTION:Gilston Area Stakeholder Liaison Group Meeting\nView details: https://eastwickandgilstonparish.gov.uk/meetings/gilston-area-liaison-stakeholder-meeting-november-27-2025/
URL:https://eastwickandgilstonparish.gov.uk/meetings/gilston-area-liaison-stakeholder-meeting-november-27-2025/
END:VEVENT
END:VCALENDAR
