BEGIN:VCALENDAR
VERSION:2.0
PRODID:-//Eastwick and Gilston Parish Council//Meeting Calendar//EN
CALSCALE:GREGORIAN
METHOD:PUBLISH
BEGIN:VEVENT
UID:71061-20260216@eastwickandgilstonparish.gov.uk
DTSTAMP:20260420T085511Z
DTSTART;VALUE=DATE:20260216
DTEND;VALUE=DATE:20260217
SUMMARY:Gilston &#038\\; Eastwick Village Hall AGM and Business Meeting
DESCRIPTION:Village Hall Meeting\nView details: https://eastwickandgilstonparish.gov.uk/meetings/gilston-eastwick-village-hall-agm-business-meeting-2026/
URL:https://eastwickandgilstonparish.gov.uk/meetings/gilston-eastwick-village-hall-agm-business-meeting-2026/
END:VEVENT
END:VCALENDAR
