BEGIN:VCALENDAR
VERSION:2.0
PRODID:-//Eastwick and Gilston Parish Council//Meeting Calendar//EN
CALSCALE:GREGORIAN
METHOD:PUBLISH
BEGIN:VEVENT
UID:72991-20251013@eastwickandgilstonparish.gov.uk
DTSTAMP:20260422T105426Z
DTSTART;VALUE=DATE:20251013
DTEND;VALUE=DATE:20251014
SUMMARY:Village Hall Meeting – October 13\\, 2025
DESCRIPTION:Village Hall Meeting\nView details: https://eastwickandgilstonparish.gov.uk/meetings/village-hall-meeting-october-13-2025/
URL:https://eastwickandgilstonparish.gov.uk/meetings/village-hall-meeting-october-13-2025/
END:VEVENT
END:VCALENDAR
